BEGIN:VCALENDAR
VERSION:2.0
PRODID:-//woxx - ECPv4.8.2//NONSGML v1.0//EN
CALSCALE:GREGORIAN
METHOD:PUBLISH
X-WR-CALNAME:woxx
X-ORIGINAL-URL:https://www.woxx.lu
X-WR-CALDESC:Veranstaltungen im woxx
BEGIN:VEVENT
DTSTART;VALUE=DATE:20181004
DTEND;VALUE=DATE:20200629
DTSTAMP:20200121T113025
CREATED:20180920T075516Z
LAST-MODIFIED:20191112T073317Z
UID:65054-1538611200-1593388799@www.woxx.lu
SUMMARY:Schwaarz Konscht
DESCRIPTION:imagerie des taques de cheminée (16e – 20e siècle) \n
URL:https://www.woxx.lu/event/schwaarz-konscht/
LOCATION:Lëtzebuerg City Museum\, 14\, rue du Saint-Esprit\, Luxembourg\, 1475\, Luxemburg
GEO:49.6100605;6.1336546
X-APPLE-STRUCTURED-LOCATION;VALUE=URI;X-ADDRESS=Lëtzebuerg City Museum 14 rue du Saint-Esprit Luxembourg 1475 Luxemburg;X-APPLE-RADIUS=500;X-TITLE=14\, rue du Saint-Esprit:geo:6.1336546,49.6100605
CATEGORIES:expo
ATTACH;FMTTYPE=image/jpeg:https://www.woxx.lu/wp-content/uploads/2018/09/expo_taques.jpg
END:VEVENT
BEGIN:VEVENT
DTSTART;VALUE=DATE:20190329
DTEND;VALUE=DATE:20200328
DTSTAMP:20200121T113025
CREATED:20190402T074230Z
LAST-MODIFIED:20190403T102646Z
UID:94460-1553817600-1585353599@www.woxx.lu
SUMMARY:David Spero : Settlements
DESCRIPTION:photographies \n
URL:https://www.woxx.lu/event/david-spero-settlements/
LOCATION:Schlassgaart\, montée du Château\, Clervaux\, 9710\, Luxemburg
GEO:50.0538016;6.0303791
X-APPLE-STRUCTURED-LOCATION;VALUE=URI;X-ADDRESS=Schlassgaart montée du Château Clervaux 9710 Luxemburg;X-APPLE-RADIUS=500;X-TITLE=montée du Château:geo:6.0303791,50.0538016
CATEGORIES:expo
ATTACH;FMTTYPE=image/jpeg:https://www.woxx.lu/wp-content/uploads/2019/04/expo_spero_settlements.jpg
END:VEVENT
BEGIN:VEVENT
DTSTART;VALUE=DATE:20190412
DTEND;VALUE=DATE:20200411
DTSTAMP:20200121T113025
CREATED:20190416T114006Z
LAST-MODIFIED:20190605T082959Z
UID:95912-1555027200-1586563199@www.woxx.lu
SUMMARY:Denis Dailleux : My Aunt Juliette
DESCRIPTION:photographies \n
URL:https://www.woxx.lu/event/denis-dailleux-my-aunt-juliette/
LOCATION:jardin de Lélise\, montée de l'Église\, Clervaux\, 9712\, Luxemburg
GEO:50.054893;6.029112
X-APPLE-STRUCTURED-LOCATION;VALUE=URI;X-ADDRESS=jardin de Lélise montée de l'Église Clervaux 9712 Luxemburg;X-APPLE-RADIUS=500;X-TITLE=montée de l'Église:geo:6.029112,50.054893
CATEGORIES:expo
ATTACH;FMTTYPE=image/jpeg:https://www.woxx.lu/wp-content/uploads/2019/04/expo_aunt_juliette.jpg
END:VEVENT
BEGIN:VEVENT
DTSTART;VALUE=DATE:20190413
DTEND;VALUE=DATE:20200629
DTSTAMP:20200121T113025
CREATED:20190403T134015Z
LAST-MODIFIED:20190716T160727Z
UID:94685-1555113600-1593388799@www.woxx.lu
SUMMARY:Giuseppe Penone
DESCRIPTION:Installation \n
URL:https://www.woxx.lu/event/giuseppe-penone/
LOCATION:Moderne Galerie des Saarlandmuseums\, Bismarckstr. 11-15\, Saarbrücken (D)\, 66111\, Deutschland
GEO:49.2307;6.9995
X-APPLE-STRUCTURED-LOCATION;VALUE=URI;X-ADDRESS=Moderne Galerie des Saarlandmuseums Bismarckstr. 11-15 Saarbrücken (D) 66111 Deutschland;X-APPLE-RADIUS=500;X-TITLE=Bismarckstr. 11-15:geo:6.9995,49.2307
CATEGORIES:expo
ATTACH;FMTTYPE=image/jpeg:https://www.woxx.lu/wp-content/uploads/2019/04/expo_penone.jpg
END:VEVENT
BEGIN:VEVENT
DTSTART;VALUE=DATE:20190517
DTEND;VALUE=DATE:20200330
DTSTAMP:20200121T113025
CREATED:20190505T205314Z
LAST-MODIFIED:20200115T074708Z
UID:98142-1558051200-1585526399@www.woxx.lu
SUMMARY:Ons Schueberfouer. Ein Jahrmarkt wie kein anderer
DESCRIPTION:historische Fotos\, Postkarten\, Plakate\, Filmaufnahmen\, nostalgische Karusselltiere\, Schiffsschaukeln und Achterbahn-Chaisen \n
URL:https://www.woxx.lu/event/ons-schueberfouer-ein-jahrmarkt-wie-kein-anderer/
LOCATION:Lëtzebuerg City Museum\, 14\, rue du Saint-Esprit\, Luxembourg\, 1475\, Luxemburg
GEO:49.6100605;6.1336546
X-APPLE-STRUCTURED-LOCATION;VALUE=URI;X-ADDRESS=Lëtzebuerg City Museum 14 rue du Saint-Esprit Luxembourg 1475 Luxemburg;X-APPLE-RADIUS=500;X-TITLE=14\, rue du Saint-Esprit:geo:6.1336546,49.6100605
CATEGORIES:expo
ATTACH;FMTTYPE=image/jpeg:https://www.woxx.lu/wp-content/uploads/2019/05/expo_Schueberfouer-Achterbahn-1979-Leo-Giacomantonio-PhThVdL.jpg
END:VEVENT
BEGIN:VEVENT
DTSTART;VALUE=DATE:20190518
DTEND;VALUE=DATE:20200427
DTSTAMP:20200121T113025
CREATED:20190514T204009Z
LAST-MODIFIED:20191231T072621Z
UID:99198-1558137600-1587945599@www.woxx.lu
SUMMARY:Pharaonengold - 3.000 Jahre altägyptische Hochkultur
DESCRIPTION:
URL:https://www.woxx.lu/event/pharaonengold-3-000-jahre-altaegyptische-hochkultur/
LOCATION:Weltkulturerbe Völklinger Hütte\, Rathausstraße 75-79\, Völklingen (D)\, 66333\, Deutschland
GEO:49.24707;6.8434
X-APPLE-STRUCTURED-LOCATION;VALUE=URI;X-ADDRESS=Weltkulturerbe Völklinger Hütte Rathausstraße 75-79 Völklingen (D) 66333 Deutschland;X-APPLE-RADIUS=500;X-TITLE=Rathausstraße 75-79:geo:6.8434,49.24707
CATEGORIES:expo
ATTACH;FMTTYPE=image/jpeg:https://www.woxx.lu/wp-content/uploads/2019/05/expo_pharaonengold.jpg
END:VEVENT
BEGIN:VEVENT
DTSTART;VALUE=DATE:20190605
DTEND;VALUE=DATE:20200131
DTSTAMP:20200121T113025
CREATED:20190526T144658Z
LAST-MODIFIED:20191127T072233Z
UID:100514-1559692800-1580428799@www.woxx.lu
SUMMARY:De Superjhemp ënnert dem Röntgenbléck
DESCRIPTION:
URL:https://www.woxx.lu/event/de-superjhemp-ennert-dem-roentgenbleck/
LOCATION:Centre national de littérature\, 2\, rue E. Servais\, Mersch\, 7565\, Luxemburg
GEO:49.7509251;6.1081898
X-APPLE-STRUCTURED-LOCATION;VALUE=URI;X-ADDRESS=Centre national de littérature 2 rue E. Servais Mersch 7565 Luxemburg;X-APPLE-RADIUS=500;X-TITLE=2\, rue E. Servais:geo:6.1081898,49.7509251
CATEGORIES:expo
ATTACH;FMTTYPE=image/jpeg:https://www.woxx.lu/wp-content/uploads/2019/05/expo_superjhemp.jpg
END:VEVENT
BEGIN:VEVENT
DTSTART;VALUE=DATE:20190620
DTEND;VALUE=DATE:20200608
DTSTAMP:20200121T113025
CREATED:20190611T193458Z
LAST-MODIFIED:20191204T102337Z
UID:102284-1560988800-1591574399@www.woxx.lu
SUMMARY:Katharina Hinsberg: Interpunktionen
DESCRIPTION:Zeichnungen \n
URL:https://www.woxx.lu/event/katharina-hinsberg-interpunktionen/
LOCATION:Moderne Galerie des Saarlandmuseums\, Bismarckstr. 11-15\, Saarbrücken (D)\, 66111\, Deutschland
GEO:49.2307;6.9995
X-APPLE-STRUCTURED-LOCATION;VALUE=URI;X-ADDRESS=Moderne Galerie des Saarlandmuseums Bismarckstr. 11-15 Saarbrücken (D) 66111 Deutschland;X-APPLE-RADIUS=500;X-TITLE=Bismarckstr. 11-15:geo:6.9995,49.2307
CATEGORIES:expo
ATTACH;FMTTYPE=image/jpeg:https://www.woxx.lu/wp-content/uploads/2019/06/expo_Hinsberg-03.jpg
END:VEVENT
BEGIN:VEVENT
DTSTART;VALUE=DATE:20190622
DTEND;VALUE=DATE:20200128
DTSTAMP:20200121T113025
CREATED:20190611T204441Z
LAST-MODIFIED:20191231T081805Z
UID:102295-1561161600-1580169599@www.woxx.lu
SUMMARY:Opéra Monde. La quête d'un art total
DESCRIPTION:maquettes\, costumes\, éléments de scénographie\, installations\, commissaire Stéphane Ghislain Roussel \n
URL:https://www.woxx.lu/event/opera-monde-la-quete-dun-art-total/
LOCATION:Centre Pompidou-Metz\, 1 parvis des Droits-de-l’Homme\, Metz (F)\, 57020\, Frankreich
GEO:49.1077779;6.1799545
X-APPLE-STRUCTURED-LOCATION;VALUE=URI;X-ADDRESS=Centre Pompidou-Metz 1 parvis des Droits-de-l’Homme Metz (F) 57020 Frankreich;X-APPLE-RADIUS=500;X-TITLE=1 parvis des Droits-de-l’Homme:geo:6.1799545,49.1077779
CATEGORIES:expo
ATTACH;FMTTYPE=image/jpeg:https://www.woxx.lu/wp-content/uploads/2019/06/expo_opera_monde.jpg
END:VEVENT
BEGIN:VEVENT
DTSTART;VALUE=DATE:20190622
DTEND;VALUE=DATE:20200128
DTSTAMP:20200121T113025
CREATED:20190611T204648Z
LAST-MODIFIED:20190612T101133Z
UID:102297-1561161600-1580169599@www.woxx.lu
SUMMARY:Malgorzata Szczęśniak : King Kong de « L’affaire Makropoulos »
DESCRIPTION:installation \n
URL:https://www.woxx.lu/event/malgorzata-szczesniak-king-kong-laffaire-makropoulos/
LOCATION:Centre Pompidou-Metz\, 1 parvis des Droits-de-l’Homme\, Metz (F)\, 57020\, Frankreich
GEO:49.1077779;6.1799545
X-APPLE-STRUCTURED-LOCATION;VALUE=URI;X-ADDRESS=Centre Pompidou-Metz 1 parvis des Droits-de-l’Homme Metz (F) 57020 Frankreich;X-APPLE-RADIUS=500;X-TITLE=1 parvis des Droits-de-l’Homme:geo:6.1799545,49.1077779
CATEGORIES:expo
END:VEVENT
BEGIN:VEVENT
DTSTART;VALUE=DATE:20190627
DTEND;VALUE=DATE:20200323
DTSTAMP:20200121T113025
CREATED:20190618T193749Z
LAST-MODIFIED:20200113T091339Z
UID:102811-1561593600-1584921599@www.woxx.lu
SUMMARY:Et wor emol e Kanonéier - L'artillerie au Luxembourg
DESCRIPTION:
URL:https://www.woxx.lu/event/et-wor-emol-e-kanoneier-lartillerie-au-luxembourg/
LOCATION:Musée Dräi Eechelen\, 5\, parc Dräi Eechelen\, Luxembourg\, 1499\, Luxemburg
GEO:49.6163693;6.139253
X-APPLE-STRUCTURED-LOCATION;VALUE=URI;X-ADDRESS=Musée Dräi Eechelen 5 parc Dräi Eechelen Luxembourg 1499 Luxemburg;X-APPLE-RADIUS=500;X-TITLE=5\, parc Dräi Eechelen:geo:6.139253,49.6163693
CATEGORIES:expo
ATTACH;FMTTYPE=image/jpeg:https://www.woxx.lu/wp-content/uploads/2019/06/expo_2019-cartepostale-canons-800.jpg
END:VEVENT
BEGIN:VEVENT
DTSTART;VALUE=DATE:20190831
DTEND;VALUE=DATE:20200402
DTSTAMP:20200121T113025
CREATED:20190821T065253Z
LAST-MODIFIED:20200113T093037Z
UID:110990-1567209600-1585785599@www.woxx.lu
SUMMARY:Suki Seokyeong Kang
DESCRIPTION:sculptures \n
URL:https://www.woxx.lu/event/suki-seokyeong-kang/
LOCATION:Musée d’art moderne Grand-Duc Jean\, 3\, parc Dräi Eechelen\, Luxembourg\, L-1499\, Luxemburg
GEO:49.6170946;6.1403368
X-APPLE-STRUCTURED-LOCATION;VALUE=URI;X-ADDRESS=Musée d’art moderne Grand-Duc Jean 3 parc Dräi Eechelen Luxembourg L-1499 Luxemburg;X-APPLE-RADIUS=500;X-TITLE=3\, parc Dräi Eechelen:geo:6.1403368,49.6170946
CATEGORIES:expo
ATTACH;FMTTYPE=image/jpeg:https://www.woxx.lu/wp-content/uploads/2019/08/expo_SSK02.jpg
END:VEVENT
BEGIN:VEVENT
DTSTART;VALUE=DATE:20190917
DTEND;VALUE=DATE:20200917
DTSTAMP:20200121T113025
CREATED:20190924T140812Z
LAST-MODIFIED:20190925T105515Z
UID:113729-1568678400-1600300799@www.woxx.lu
SUMMARY:François Fontaine : Cosmos
DESCRIPTION:photographies \n
URL:https://www.woxx.lu/event/francois-fontaine-cosmos/
LOCATION:Arcades II\, montée de l'Église\, Clervaux\, 9710\, Luxemburg
GEO:50.0554318;6.0281526
X-APPLE-STRUCTURED-LOCATION;VALUE=URI;X-ADDRESS=Arcades II montée de l'Église Clervaux 9710 Luxemburg;X-APPLE-RADIUS=500;X-TITLE=montée de l'Église:geo:6.0281526,50.0554318
CATEGORIES:expo
ATTACH;FMTTYPE=image/jpeg:https://www.woxx.lu/wp-content/uploads/2019/09/expo_cosmos.jpg
END:VEVENT
BEGIN:VEVENT
DTSTART;VALUE=DATE:20190921
DTEND;VALUE=DATE:20200127
DTSTAMP:20200121T113025
CREATED:20190911T071738Z
LAST-MODIFIED:20200115T150844Z
UID:112401-1569024000-1580083199@www.woxx.lu
SUMMARY:Rodin/Nauman
DESCRIPTION:
URL:https://www.woxx.lu/event/rodin-nauman/
LOCATION:Moderne Galerie des Saarlandmuseums\, Bismarckstr. 11-15\, Saarbrücken (D)\, 66111\, Deutschland
GEO:49.2307;6.9995
X-APPLE-STRUCTURED-LOCATION;VALUE=URI;X-ADDRESS=Moderne Galerie des Saarlandmuseums Bismarckstr. 11-15 Saarbrücken (D) 66111 Deutschland;X-APPLE-RADIUS=500;X-TITLE=Bismarckstr. 11-15:geo:6.9995,49.2307
CATEGORIES:expo
ATTACH;FMTTYPE=image/jpeg:https://www.woxx.lu/wp-content/uploads/2019/09/expo_Auguste_Rodin_-_Homme_qui_marche-630x891.jpg
END:VEVENT
BEGIN:VEVENT
DTSTART;VALUE=DATE:20190921
DTEND;VALUE=DATE:20200414
DTSTAMP:20200121T113025
CREATED:20190918T064926Z
LAST-MODIFIED:20200113T093020Z
UID:112983-1569024000-1586822399@www.woxx.lu
SUMMARY:Le monde en mouvement
DESCRIPTION:œuvres de la collection du Mudam \n
URL:https://www.woxx.lu/event/le-monde-en-mouvement/
LOCATION:Musée d’art moderne Grand-Duc Jean\, 3\, parc Dräi Eechelen\, Luxembourg\, L-1499\, Luxemburg
GEO:49.6170946;6.1403368
X-APPLE-STRUCTURED-LOCATION;VALUE=URI;X-ADDRESS=Musée d’art moderne Grand-Duc Jean 3 parc Dräi Eechelen Luxembourg L-1499 Luxemburg;X-APPLE-RADIUS=500;X-TITLE=3\, parc Dräi Eechelen:geo:6.1403368,49.6170946
CATEGORIES:expo
ATTACH;FMTTYPE=image/jpeg:https://www.woxx.lu/wp-content/uploads/2019/09/expo_monde_mouvement_Jack-Goldstein.jpg
END:VEVENT
BEGIN:VEVENT
DTSTART;VALUE=DATE:20190921
DTEND;VALUE=DATE:20200414
DTSTAMP:20200121T113025
CREATED:20190918T065035Z
LAST-MODIFIED:20200113T093042Z
UID:112985-1569024000-1586822399@www.woxx.lu
SUMMARY:Donations et dépôts récents
DESCRIPTION:œuvres entrées récemment dans la collection du Mudam \n
URL:https://www.woxx.lu/event/donations-et-depots-recents/
LOCATION:Musée d’art moderne Grand-Duc Jean\, 3\, parc Dräi Eechelen\, Luxembourg\, L-1499\, Luxemburg
GEO:49.6170946;6.1403368
X-APPLE-STRUCTURED-LOCATION;VALUE=URI;X-ADDRESS=Musée d’art moderne Grand-Duc Jean 3 parc Dräi Eechelen Luxembourg L-1499 Luxemburg;X-APPLE-RADIUS=500;X-TITLE=3\, parc Dräi Eechelen:geo:6.1403368,49.6170946
CATEGORIES:expo
ATTACH;FMTTYPE=image/jpeg:https://www.woxx.lu/wp-content/uploads/2019/09/expo_donations-mudam-collection.jpg
END:VEVENT
BEGIN:VEVENT
DTSTART;VALUE=DATE:20190927
DTEND;VALUE=DATE:20200906
DTSTAMP:20200121T113025
CREATED:20190918T061310Z
LAST-MODIFIED:20200107T112354Z
UID:112956-1569542400-1599350399@www.woxx.lu
SUMMARY:#wielewatmirsinn - 100 ans de suffrage universel au Luxembourg
DESCRIPTION:exposition historique en collaboration avec la Chambre des députés \n
URL:https://www.woxx.lu/event/wielewatmirsinn-100-ans-de-suffrage-universel-au-luxembourg/
LOCATION:Musée national d’histoire et d’art\, Marché-aux-Poissons\, Luxembourg\, 2345\, Luxemburg
GEO:49.611641;6.133852
X-APPLE-STRUCTURED-LOCATION;VALUE=URI;X-ADDRESS=Musée national d’histoire et d’art Marché-aux-Poissons Luxembourg 2345 Luxemburg;X-APPLE-RADIUS=500;X-TITLE=Marché-aux-Poissons:geo:6.133852,49.611641
CATEGORIES:expo
ATTACH;FMTTYPE=image/jpeg:https://www.woxx.lu/wp-content/uploads/2019/09/expo_wielen.jpg
END:VEVENT
BEGIN:VEVENT
DTSTART;VALUE=DATE:20190927
DTEND;VALUE=DATE:20200926
DTSTAMP:20200121T113025
CREATED:20191001T172538Z
LAST-MODIFIED:20191002T121334Z
UID:114679-1569542400-1601078399@www.woxx.lu
SUMMARY:Andreas Gefeller : Soma
DESCRIPTION:photographies \n
URL:https://www.woxx.lu/event/andreas-gefeller-soma/
LOCATION:Échappée belle\, pl. du Marché\, Clervaux\, 9710\, Luxemburg
GEO:50.054018;6.0298115
X-APPLE-STRUCTURED-LOCATION;VALUE=URI;X-ADDRESS=Échappée belle pl. du Marché Clervaux 9710 Luxemburg;X-APPLE-RADIUS=500;X-TITLE=pl. du Marché:geo:6.0298115,50.054018
CATEGORIES:expo
ATTACH;FMTTYPE=image/jpeg:https://www.woxx.lu/wp-content/uploads/2019/10/expo_andreas_gefeller.jpg
END:VEVENT
BEGIN:VEVENT
DTSTART;VALUE=DATE:20190927
DTEND;VALUE=DATE:20200926
DTSTAMP:20200121T113025
CREATED:20191001T172658Z
LAST-MODIFIED:20191002T121236Z
UID:114681-1569542400-1601078399@www.woxx.lu
SUMMARY:Anna Lehmann-Brauns : Sun in an Empty Room
DESCRIPTION:photographies \n
URL:https://www.woxx.lu/event/anna-lehmann-brauns-sun-in-an-empty-room/
LOCATION:Arcades I\, Grand-Rue\, Clervaux\, 9710\, Luxemburg
GEO:50.0557901;6.0287553
X-APPLE-STRUCTURED-LOCATION;VALUE=URI;X-ADDRESS=Arcades I Grand-Rue Clervaux 9710 Luxemburg;X-APPLE-RADIUS=500;X-TITLE=Grand-Rue:geo:6.0287553,50.0557901
CATEGORIES:expo
ATTACH;FMTTYPE=image/jpeg:https://www.woxx.lu/wp-content/uploads/2019/10/expo_sun_empty_room.jpg
END:VEVENT
BEGIN:VEVENT
DTSTART;VALUE=DATE:20190928
DTEND;VALUE=DATE:20200217
DTSTAMP:20200121T113025
CREATED:20190918T064141Z
LAST-MODIFIED:20190918T122742Z
UID:112972-1569628800-1581897599@www.woxx.lu
SUMMARY:Nadja Verena Marcin: Ophelia
DESCRIPTION:Performance\, Video-Installation \n
URL:https://www.woxx.lu/event/nadja-verena-marcin-ophelia/
LOCATION:Stadtgalerie Saarbrücken\, St. Johanner Markt 24\, Saarbrücken (D)\, 66111\, Deutschland
GEO:49.23254;6.99691
X-APPLE-STRUCTURED-LOCATION;VALUE=URI;X-ADDRESS=Stadtgalerie Saarbrücken St. Johanner Markt 24 Saarbrücken (D) 66111 Deutschland;X-APPLE-RADIUS=500;X-TITLE=St. Johanner Markt 24:geo:6.99691,49.23254
CATEGORIES:expo
ATTACH;FMTTYPE=image/jpeg:https://www.woxx.lu/wp-content/uploads/2019/09/expo_nadja_verena_marcin.jpg
END:VEVENT
BEGIN:VEVENT
DTSTART;VALUE=DATE:20190928
DTEND;VALUE=DATE:20200217
DTSTAMP:20200121T113025
CREATED:20190918T064343Z
LAST-MODIFIED:20190918T122906Z
UID:112976-1569628800-1581897599@www.woxx.lu
SUMMARY:Parastou Forouhar: Deadlines
DESCRIPTION:Konzeptkunst \n
URL:https://www.woxx.lu/event/parastou-forouhar-deadlines/
LOCATION:Stadtgalerie Saarbrücken\, St. Johanner Markt 24\, Saarbrücken (D)\, 66111\, Deutschland
GEO:49.23254;6.99691
X-APPLE-STRUCTURED-LOCATION;VALUE=URI;X-ADDRESS=Stadtgalerie Saarbrücken St. Johanner Markt 24 Saarbrücken (D) 66111 Deutschland;X-APPLE-RADIUS=500;X-TITLE=St. Johanner Markt 24:geo:6.99691,49.23254
CATEGORIES:expo
ATTACH;FMTTYPE=image/jpeg:https://www.woxx.lu/wp-content/uploads/2019/09/expo_parastou_forouhar.jpg
END:VEVENT
BEGIN:VEVENT
DTSTART;VALUE=DATE:20190928
DTEND;VALUE=DATE:20200204
DTSTAMP:20200121T113025
CREATED:20190918T080717Z
LAST-MODIFIED:20190918T123121Z
UID:113002-1569628800-1580774399@www.woxx.lu
SUMMARY:Lisa Kohl : Exit
DESCRIPTION:performance vidéo-sonore \n
URL:https://www.woxx.lu/event/lisa-kohl-exit/
LOCATION:Rotondes\, rue de la Rotonde\, Luxembourg\, 2448\, Luxemburg
GEO:49.601711;6.136558
X-APPLE-STRUCTURED-LOCATION;VALUE=URI;X-ADDRESS=Rotondes rue de la Rotonde Luxembourg 2448 Luxemburg;X-APPLE-RADIUS=500;X-TITLE=rue de la Rotonde:geo:6.136558,49.601711
CATEGORIES:expo
ATTACH;FMTTYPE=image/jpeg:https://www.woxx.lu/wp-content/uploads/2019/09/expo_loop.jpg
END:VEVENT
BEGIN:VEVENT
DTSTART;VALUE=DATE:20190928
DTEND;VALUE=DATE:20200203
DTSTAMP:20200121T113025
CREATED:20190918T080851Z
LAST-MODIFIED:20190918T123240Z
UID:113004-1569628800-1580687999@www.woxx.lu
SUMMARY:Karolina Pernar : Black Holes Ain't so Black
DESCRIPTION:installation \n
URL:https://www.woxx.lu/event/karolina-pernar-black-holes-aint-so-black/
LOCATION:Rotondes\, rue de la Rotonde\, Luxembourg\, 2448\, Luxemburg
GEO:49.601711;6.136558
X-APPLE-STRUCTURED-LOCATION;VALUE=URI;X-ADDRESS=Rotondes rue de la Rotonde Luxembourg 2448 Luxemburg;X-APPLE-RADIUS=500;X-TITLE=rue de la Rotonde:geo:6.136558,49.601711
CATEGORIES:expo
ATTACH;FMTTYPE=image/jpeg:https://www.woxx.lu/wp-content/uploads/2019/09/expo_black_holes.jpg
END:VEVENT
BEGIN:VEVENT
DTSTART;VALUE=DATE:20190929
DTEND;VALUE=DATE:20200225
DTSTAMP:20200121T113025
CREATED:20190918T065730Z
LAST-MODIFIED:20200115T073625Z
UID:112988-1569715200-1582588799@www.woxx.lu
SUMMARY:L'œil extatique. Sergueï Eisenstein\, cinéaste à la croisée des arts
DESCRIPTION:
URL:https://www.woxx.lu/event/loeil-extatique-serguei-eisenstein-cineaste-a-la-croisee-des-arts/
LOCATION:Centre Pompidou-Metz\, 1 parvis des Droits-de-l’Homme\, Metz (F)\, 57020\, Frankreich
GEO:49.1077779;6.1799545
X-APPLE-STRUCTURED-LOCATION;VALUE=URI;X-ADDRESS=Centre Pompidou-Metz 1 parvis des Droits-de-l’Homme Metz (F) 57020 Frankreich;X-APPLE-RADIUS=500;X-TITLE=1 parvis des Droits-de-l’Homme:geo:6.1799545,49.1077779
CATEGORIES:expo
ATTACH;FMTTYPE=image/jpeg:https://www.woxx.lu/wp-content/uploads/2019/09/expo_oeil_extatique.jpg
END:VEVENT
BEGIN:VEVENT
DTSTART;VALUE=DATE:20191009
DTEND;VALUE=DATE:20200201
DTSTAMP:20200121T113025
CREATED:20191009T114349Z
LAST-MODIFIED:20191127T113229Z
UID:115590-1570579200-1580515199@www.woxx.lu
SUMMARY:Ferluc : Vagues\, jardins du ciel
DESCRIPTION:sculpture sur cuivre \n
URL:https://www.woxx.lu/event/ferluc-vagues-jardins-du-ciel/
LOCATION:galerie Vallart\, 20\, av. de la Porte Neuve\, Luxembourg\, 2227\, Luxemburg
CATEGORIES:expo
ATTACH;FMTTYPE=image/jpeg:https://www.woxx.lu/wp-content/uploads/2019/10/expo_ferluc.jpg
END:VEVENT
BEGIN:VEVENT
DTSTART;VALUE=DATE:20191011
DTEND;VALUE=DATE:20200608
DTSTAMP:20200121T113025
CREATED:20191001T131326Z
LAST-MODIFIED:20200108T073953Z
UID:114662-1570752000-1591574399@www.woxx.lu
SUMMARY:Drôles d’oiseaux
DESCRIPTION:
URL:https://www.woxx.lu/event/droles-doiseaux/
LOCATION:Musée national d’histoire naturelle\, 25\, rue Munster\, Luxembourg\, 2160\, Luxemburg
GEO:49.609584;6.1356412
X-APPLE-STRUCTURED-LOCATION;VALUE=URI;X-ADDRESS=Musée national d’histoire naturelle 25 rue Munster Luxembourg 2160 Luxemburg;X-APPLE-RADIUS=500;X-TITLE=25\, rue Munster:geo:6.1356412,49.609584
CATEGORIES:expo
ATTACH;FMTTYPE=image/jpeg:https://www.woxx.lu/wp-content/uploads/2019/10/expo_Affiche-Geckeg-Vullen-2019-660x933.jpeg
END:VEVENT
BEGIN:VEVENT
DTSTART;VALUE=DATE:20191018
DTEND;VALUE=DATE:20200210
DTSTAMP:20200121T113025
CREATED:20191009T064208Z
LAST-MODIFIED:20191127T102141Z
UID:115476-1571356800-1581292799@www.woxx.lu
SUMMARY:Female Gaze
DESCRIPTION:exposition collective organisée par Artscape Contemporary Art Luxembourg \n
URL:https://www.woxx.lu/event/female-gaze/
LOCATION:Foundry\, 38\, route d'Esch\, Luxembourg\, 1470\, Luxemburg
CATEGORIES:expo
ATTACH;FMTTYPE=image/jpeg:https://www.woxx.lu/wp-content/uploads/2019/10/expo_female_gaze.jpg
END:VEVENT
BEGIN:VEVENT
DTSTART;VALUE=DATE:20191018
DTEND;VALUE=DATE:20200522
DTSTAMP:20200121T113025
CREATED:20191016T065420Z
LAST-MODIFIED:20191114T084612Z
UID:116146-1571356800-1590105599@www.woxx.lu
SUMMARY:Die 20er-Jahre.  Leben zwischen Tradition und Moderne im internationalen Saargebiet
DESCRIPTION:
URL:https://www.woxx.lu/event/die-20er-jahre-leben-zwischen-tradition-und-moderne-im-internationalen-saargebiet/
LOCATION:Historisches Museum Saar\, Schlossplatz 15\, Saarbrücken (D)\, 66119\, Deutschland
GEO:49.23004;6.99223
X-APPLE-STRUCTURED-LOCATION;VALUE=URI;X-ADDRESS=Historisches Museum Saar Schlossplatz 15 Saarbrücken (D) 66119 Deutschland;X-APPLE-RADIUS=500;X-TITLE=Schlossplatz 15:geo:6.99223,49.23004
CATEGORIES:expo
ATTACH;FMTTYPE=image/jpeg:https://www.woxx.lu/wp-content/uploads/2019/10/expo_die_20er_jahre.jpg
END:VEVENT
BEGIN:VEVENT
DTSTART;VALUE=DATE:20191019
DTEND;VALUE=DATE:20200203
DTSTAMP:20200121T113025
CREATED:20191210T213727Z
LAST-MODIFIED:20191218T122501Z
UID:122535-1571443200-1580687999@www.woxx.lu
SUMMARY:Tobias Spichtig : Love and Die
DESCRIPTION:installations \n
URL:https://www.woxx.lu/event/tobias-spichtig-love-ans-die/
LOCATION:centre d’art contemporain – la synagogue de Delme\, 33 rue Raymond Poincaré\, Delme (F)\, 57590\, Frankreich
CATEGORIES:expo
END:VEVENT
BEGIN:VEVENT
DTSTART;VALUE=DATE:20191023
DTEND;VALUE=DATE:20200310
DTSTAMP:20200121T113025
CREATED:20191023T064124Z
LAST-MODIFIED:20191106T095218Z
UID:116871-1571788800-1583798399@www.woxx.lu
SUMMARY:Guilherme Parente : Cidades invisíveis
DESCRIPTION:peintures \n
URL:https://www.woxx.lu/event/guilherme-parente-cidades-invisivei/
LOCATION:Camões – centre culturel portugais\, 4\, pl. Joseph Thorn\, Luxembourg\, 2637\, Luxemburg
GEO:49.6009719;6.1379382
X-APPLE-STRUCTURED-LOCATION;VALUE=URI;X-ADDRESS=Camões – centre culturel portugais 4 pl. Joseph Thorn Luxembourg 2637 Luxemburg;X-APPLE-RADIUS=500;X-TITLE=4\, pl. Joseph Thorn:geo:6.1379382,49.6009719
CATEGORIES:expo
ATTACH;FMTTYPE=image/jpeg:https://www.woxx.lu/wp-content/uploads/2019/10/expo_guilherme-parente-ccp-camoes-luxemburgo-890x843.jpg
END:VEVENT
END:VCALENDAR